BEGIN:VCALENDAR
VERSION:2.0
PRODID:-//Beaverton Downtown Association - ECPv6.15.20//NONSGML v1.0//EN
CALSCALE:GREGORIAN
METHOD:PUBLISH
X-WR-CALNAME:Beaverton Downtown Association
X-ORIGINAL-URL:https://downtownbeaverton.org
X-WR-CALDESC:Events for Beaverton Downtown Association
REFRESH-INTERVAL;VALUE=DURATION:PT1H
X-Robots-Tag:noindex
X-PUBLISHED-TTL:PT1H
BEGIN:VTIMEZONE
TZID:UTC
BEGIN:STANDARD
TZOFFSETFROM:+0000
TZOFFSETTO:+0000
TZNAME:UTC
DTSTART:20250101T000000
END:STANDARD
END:VTIMEZONE
BEGIN:VEVENT
DTSTART;TZID=UTC:20260310T180000
DTEND;TZID=UTC:20260623T200000
DTSTAMP:20260419T040136
CREATED:20260306T220444Z
LAST-MODIFIED:20260306T220444Z
UID:3596-1773165600-1782244800@downtownbeaverton.org
SUMMARY:Music Bingo from Last Call Bingo
DESCRIPTION:Do you love music? Think you can name that tune? Join us at Syndicate every Tuesday starting January 20th for a few hours of Music Bingo. Free to play. Please come early to order dinner and or drinks. Your patronage is deeply appreciated \nThis event is every Tuesday night from 6-8 PM. Free to play. Open for all ages. Prizes are awarded every round.
URL:https://downtownbeaverton.org/event/music-bingo-from-last-call-bingo/
LOCATION:Syndicate Wine Bar\, 12620 SW First Street\, Beaverton\, OR\, 97005\, United States
ATTACH;FMTTYPE=image/jpeg:https://downtownbeaverton.org/wp-content/uploads/2026/03/music-bingo-go5vux.jpg
END:VEVENT
BEGIN:VEVENT
DTSTART;TZID=UTC:20260412T113000
DTEND;TZID=UTC:20260503T123000
DTSTAMP:20260419T040136
CREATED:20260316T205254Z
LAST-MODIFIED:20260316T205254Z
UID:3765-1775993400-1777811400@downtownbeaverton.org
SUMMARY:The Reser Presents Unit Souzou: Taiko Drumming Class
DESCRIPTION:UNIT SOUZOU’s school of taiko drumming class is for all skill levels. Join esteemed instructors Michelle Fujii and Toru Watanabe as you’re empowered to find your unique voice through the drum. Within the taiko session\, students will actively participate in individual and ensemble taiko exercises. \nSundays 11:30 AM – 12:30 PM \nApril 12\nApril 19\nApril 26\nMay 3 \nInstructor\n: Michelle Fuji and Toru Watanabe \nA signed waiver is required to attend classes. \nIndividual classes: $25/$20 for Seniors \nClasses are limited to 30 students. \nThe Patricia Reser Center for the Arts Education and Community Program’s mission is to awaken creativity in all of us by providing access to exceptional arts learning experiences to lifelong learners\, students\, educators\, and families in our community.
URL:https://downtownbeaverton.org/event/the-reser-presents-unit-souzou-taiko-drumming-class/
LOCATION:Patricia Reser Center for the Arts\, 12625 SW Crescent St\, Beaverton\, OR\, 97005\, United States
ATTACH;FMTTYPE=image/jpeg:https://downtownbeaverton.org/wp-content/uploads/2026/03/taiko_hero-vyufoj.jpg
END:VEVENT
BEGIN:VEVENT
DTSTART;TZID=UTC:20260414T180000
DTEND;TZID=UTC:20261230T210000
DTSTAMP:20260419T040136
CREATED:20260316T205823Z
LAST-MODIFIED:20260316T205823Z
UID:3735-1776189600-1798664400@downtownbeaverton.org
SUMMARY:Casual Commander Night (Magic the Gathering)
DESCRIPTION:Every second Tuesday of the month\, Binary sets aside space at the pub for folks to play Magic the Gathering card game. All levels welcome. Runs 6-9pm.
URL:https://downtownbeaverton.org/event/casual-commander-night-magic-the-gathering/
LOCATION:Binary Brewing\, 12345 SW Broadway St\, Beaverton\, OR\, 97005\, United States
ATTACH;FMTTYPE=image/png:https://downtownbeaverton.org/wp-content/uploads/2026/03/commander-final-2-laiscd.png
END:VEVENT
BEGIN:VEVENT
DTSTART;TZID=UTC:20260426T130000
DTEND;TZID=UTC:20260426T160000
DTSTAMP:20260419T040136
CREATED:20260323T223850Z
LAST-MODIFIED:20260323T223850Z
UID:3883-1777208400-1777219200@downtownbeaverton.org
SUMMARY:Día de los niños
DESCRIPTION:Bring the whole family to celebrate Día de los niños! Kids can get creative with colorful crafts\, play with a wide assortment of toys\, and pick out a free book to take home (while supplies last). Whether you stay for a little or a long while\, enjoy a lively afternoon filled with creativity\, learning\, and community! All ages.
URL:https://downtownbeaverton.org/event/dia-de-los-ninos/
LOCATION:Beaverton Library\, 12375 SW 5th St\, Beaverton\, OR\, 97005\, United States
ATTACH;FMTTYPE=image/png:https://downtownbeaverton.org/wp-content/uploads/2026/03/children-with-red-book-illustration-kdktnq-scaled.png
END:VEVENT
BEGIN:VEVENT
DTSTART;TZID=UTC:20260430T133000
DTEND;TZID=UTC:20260510T173000
DTSTAMP:20260419T040136
CREATED:20260323T223829Z
LAST-MODIFIED:20260323T223829Z
UID:3888-1777555800-1778434200@downtownbeaverton.org
SUMMARY:Book & Media Sale
DESCRIPTION:Shop thousands of vintage and current books\, DVDs\, CDs\, and more. Sale proceeds benefit the library. Thursday\, Apr. 30 – Sunday\, May 10. Thursday\, Apr. 30: Members & Teachers Night\, 1:30-5:30 PM; be or become a FBCL member or show teacher ID for entry. Friday\, May 1 & Saturday\, May 2: 10 AM – 5:30 PM. Sunday\, May 3: 12-5:30 PM. Monday\, May 4 – Saturday\, May 9: 10 AM – 5:30 PM. Sunday\, May 10: Bag Sale\, 12-5:30 PM; BYOB (or use ours) and fill for $10. All ages.
URL:https://downtownbeaverton.org/event/book-media-sale/
LOCATION:Beaverton Library\, 12375 SW 5th St\, Beaverton\, OR\, 97005\, United States
ATTACH;FMTTYPE=image/jpeg:https://downtownbeaverton.org/wp-content/uploads/2026/03/img_7927-best-ifn2aw-scaled.jpg
END:VEVENT
BEGIN:VEVENT
DTSTART;TZID=UTC:20260503T130000
DTEND;TZID=UTC:20260503T150000
DTSTAMP:20260419T040136
CREATED:20260313T191137Z
LAST-MODIFIED:20260313T191137Z
UID:3684-1777813200-1777820400@downtownbeaverton.org
SUMMARY:Bike Beaverton
DESCRIPTION:This important event teaches us about road safety for both bicyclists and motorists. The event is fun for the whole family with an educational safety rodeo\, community tabling fair\, a community bike ride\, and a Children’s Entrepreneur Market! Helmets are required for all riders. \nFor more information\, please visit https://beavertonoregon.gov/508/Bike-Beaverton-Event \nTo learn more about the Children’s Entrepreneur Market\, please visit Children’s Entrepreneur Market – Helping kids learn business through firsthand experience at https://www.kidsmarkets.com/ \nWe hope to see you there!
URL:https://downtownbeaverton.org/event/bike-beaverton/
LOCATION:Beaverton City Park\, 12500 SW 4th St\, Beaverton\, OR\, 97005\, United States
ATTACH;FMTTYPE=image/jpeg:https://downtownbeaverton.org/wp-content/uploads/2026/03/2026-bike-beaverton-flyer-lfu8o1-scaled.jpg
END:VEVENT
BEGIN:VEVENT
DTSTART;TZID=UTC:20260507T183000
DTEND;TZID=UTC:20260507T193000
DTSTAMP:20260419T040136
CREATED:20260316T205158Z
LAST-MODIFIED:20260316T205158Z
UID:3770-1778178600-1778182200@downtownbeaverton.org
SUMMARY:The Reser Presents\, The Reser & The City of Beaverton Present Nestbuilding Workshop
DESCRIPTION:DateMay 7PricingFree with ticketed RSVP\nCome\, weave with us\, and embrace the quiet power of renewal. Join artist Debbie Baxter as you step into a space of quiet care and shared creation. Together\, participants will work through individual stories and weave a personal nest as a living symbol of home\, safety\, and new beginnings. Each branch and twist is an act of intention: a place to nurture\, protect\, and honor your own journey. \nThis workshop is for anyone wanting to creatively work through personal stories in a hands-on\, heart-centered environment. By building together\, we create not only a nest but a community of care\, witnessing\, and transformation. Participants are encouraged to bring a notebook/journal if desired. All nest-making materials are provided by the facilitator. \nAges 18+ | Free with ticketed RSVP \nLearn more about Hope is Beyond Words. \nPHOTO: Debbie Baxter
URL:https://downtownbeaverton.org/event/the-reser-presents-the-reser-the-city-of-beaverton-present-nestbuilding-workshop/
LOCATION:Patricia Reser Center for the Arts\, 12625 SW Crescent St\, Beaverton\, OR\, 97005\, United States
ATTACH;FMTTYPE=image/jpeg:https://downtownbeaverton.org/wp-content/uploads/2026/03/nest_hero-muqle1.jpg
END:VEVENT
BEGIN:VEVENT
DTSTART;TZID=UTC:20260605T210000
DTEND;TZID=UTC:20260828T235900
DTSTAMP:20260419T040136
CREATED:20260306T224535Z
LAST-MODIFIED:20260306T224535Z
UID:3618-1780693200-1787961540@downtownbeaverton.org
SUMMARY:Syndicate Late Night - Beaverton Oregon
DESCRIPTION:Every Friday night from 9 PM to Midnight for the months of June\, July\, and August. Only on Fridays.\nLate night dinner specials with the dance club vibes. Join us for the party every Friday night.
URL:https://downtownbeaverton.org/event/syndicate-late-night-beaverton-oregon/
LOCATION:Syndicate Wine Bar\, 12620 SW First Street\, Beaverton\, OR\, 97005\, United States
ATTACH;FMTTYPE=image/jpeg:https://downtownbeaverton.org/wp-content/uploads/2026/03/late-night-7pkznn.jpg
END:VEVENT
BEGIN:VEVENT
DTSTART;TZID=UTC:20260606T120000
DTEND;TZID=UTC:20260606T160000
DTSTAMP:20260419T040136
CREATED:20260321T190225Z
LAST-MODIFIED:20260321T190225Z
UID:3847-1780747200-1780761600@downtownbeaverton.org
SUMMARY:Boba Dash - June 6th 2026
DESCRIPTION:Join us for Boba Dash\, a fun and flavorful event dedicated to celebrating the joy of bubble tea and bringing our community together! This is your chance to sip\, savor\, and explore the unique charm of boba culture. \nWhat to Expect: \nBoba Tasting Tour: Enjoy a variety of boba drinks from local vendors and discover new flavors and creations.\nInteractive Activities: Learn more about the history and art of making bubble tea through fun and engaging demonstrations.\nCommunity Connection: Meet other boba enthusiasts\, support local businesses\, and celebrate the shared love of this popular treat.\nPhoto Opportunities: Capture the moment with boba-themed photo spots and share the fun with friends and family.\nWhether you’re a boba connoisseur or new to the world of bubble tea\, the Boba Dash offers something for everyone. Come for the boba\, stay for the community!
URL:https://downtownbeaverton.org/event/boba-dash-june-6th-2026/
LOCATION:1st Street Dining Commons\, SW Washington Ave &\, SW 1st St\, Beaverton\, OR\, 97005\, United States
ATTACH;FMTTYPE=image/png:https://downtownbeaverton.org/wp-content/uploads/2026/03/boba-dash-beaverton-oregon-june-6th-2026.png
END:VEVENT
BEGIN:VEVENT
DTSTART;TZID=UTC:20260617T180000
DTEND;TZID=UTC:20260617T200000
DTSTAMP:20260419T040136
CREATED:20260410T165553Z
LAST-MODIFIED:20260410T165553Z
UID:3994-1781719200-1781726400@downtownbeaverton.org
SUMMARY:Pride Bingo - Central Station Taps
DESCRIPTION:June 17\, 6–8pm:\nFree Pride Bingo with The Queen Pluto at Central Station Taps\,\n3925 SW Rose Biggi Ave\, Beaverton\, OR 97005. \nHosted by Pride Beaverton & Central Station Taps. \nFamily friendly\, silly prizes\, outside food welcome.
URL:https://downtownbeaverton.org/event/pride-bingo-central-station-taps/
LOCATION:Central Station Tap House\, 3925 SW Rose Biggi Ave Suite 120\, Beaverton\, OR\, 97005\, United States
ATTACH;FMTTYPE=image/jpeg:https://downtownbeaverton.org/wp-content/uploads/2026/04/pride-bingo-pluto-central-station.jpg
END:VEVENT
BEGIN:VEVENT
DTSTART;TZID=UTC:20260627T140000
DTEND;TZID=UTC:20260627T180000
DTSTAMP:20260419T040136
CREATED:20260306T223655Z
LAST-MODIFIED:20260306T223655Z
UID:3611-1782568800-1782583200@downtownbeaverton.org
SUMMARY:Syndicate 2026 Block Party - Beaverton Oregon
DESCRIPTION:The wine tasting event of the summer. Multiple wineries. Tons of bottle sales. Tons of amazing food on the grill. Come join us for a special afternoon. \nEarly Bird Specials until March 15th: \nGeneral Admission: $30\nClub Rate: $25\nAfter March 15th: \nGeneral Admission $35\nClub Members $30\nIncludes 10 tasting coupons to be used at any drink booth. Food sold separately. This is a wine event so please support the Syndicate Kitchen team through the purchase of food. Bottle sales support the individual unique producers and encourage their participation in future events. Must be 21 years or older to consume alcohol. \nConfirmed Wine Brands Attending:\nAniChe Cellars\nHawks View Vineyard\nJ. Christopher\nOcelli Cellars\nParra Wine Company\nResilience Wines\nSeallione Wines\nTroon Vineyards\nVarnum Vintners \nLive Musicians: Josh Makosky from 2-4 PM\, and Ben Rice from 4-6 PM \nIf you would like to sponsor this event in any way\, please contact us at sales@syndicatewines.com or select from the options below: \nWine Bag Sponsor: $500\nTasting Glass Sponsor: $750\nEvent Passport Sponsor: $1000\nFull page advertisement in the passport: $100\nHalf page advertisement in the passport: $50
URL:https://downtownbeaverton.org/event/syndicate-2026-block-party-beaverton-oregon/
LOCATION:Syndicate Wine Bar\, 12620 SW First Street\, Beaverton\, OR\, 97005\, United States
ATTACH;FMTTYPE=image/jpeg:https://downtownbeaverton.org/wp-content/uploads/2026/03/block-party-banner-nb6sdm.jpg
END:VEVENT
BEGIN:VEVENT
DTSTART;TZID=UTC:20261030T180000
DTEND;TZID=UTC:20261030T210000
DTSTAMP:20260419T040136
CREATED:20260306T232930Z
LAST-MODIFIED:20260306T232930Z
UID:3631-1793383200-1793394000@downtownbeaverton.org
SUMMARY:Syndicate Halloween Party - Beaverton Oregon
DESCRIPTION:Plan your outfits now. Come party with us for the costume party meant for adults. We always plan this so that parents can be home with their kids on October 31st. This is the party for adults and yes\, there will be a costume contest at the end of the night. \nGeneral Admission: $35\, Club Rate: $30\, includes a buffet dinner and one drink ticket \nBuffet Dinner menu will be posted closer to the event.\nThis is a loud night with no table service. Open a ticket at the bar for drinks. \nIf you are with us up until closing\, we will be pub crawling after the event to local bars in an around Old Town.
URL:https://downtownbeaverton.org/event/syndicate-halloween-party-beaverton-oregon/
LOCATION:Syndicate Wine Bar\, 12620 SW First Street\, Beaverton\, OR\, 97005\, United States
ATTACH;FMTTYPE=image/jpeg:https://downtownbeaverton.org/wp-content/uploads/2026/03/halloween-2026-mmwklc.jpg
END:VEVENT
END:VCALENDAR